BEGIN:VCALENDAR
PRODID:-//eluceo/ical//2.0/EN
VERSION:2.0
CALSCALE:GREGORIAN
BEGIN:VEVENT
UID:5a42ef4556510b9833463e090f2284a3
DTSTAMP:20260421T140331Z
SUMMARY:Rotarisches Gipfeli-Treffen
DESCRIPTION:Jeden ersten Freitag im Monat treffen sich Rotarierinnen und Ro
 tarier der Clubs aus Olten und Umgebung zu Kaffee und Gipfeli im Restauran
 t Pure (Hotel Arte) in Olten.\n\nGäste sind allzeit herzlich willkommen!
 \nSitio web: https://www.konferenzhotel.ch/de/Restaurants/pure-Restaurant
URL:https://rotary-olten.ch/es/agenda/show/87871
DTSTART;TZID=Europe/Zurich:20190607T071500
DTEND;TZID=Europe/Zurich:20190607T080000
LOCATION:Hotel Arte\, Restaurant Pure
CATEGORIES:Rotary
END:VEVENT
BEGIN:VTIMEZONE
TZID:Europe/Zurich
BEGIN:DAYLIGHT
DTSTART:20190607T071500
TZNAME:CEST
TZOFFSETTO:+0200
TZOFFSETFROM:+0200
END:DAYLIGHT
END:VTIMEZONE
END:VCALENDAR
