BEGIN:VCALENDAR
PRODID:-//eluceo/ical//2.0/EN
VERSION:2.0
CALSCALE:GREGORIAN
BEGIN:VEVENT
UID:1f695e462ba7ae822dafbed9731f2bd0
DTSTAMP:20260425T135051Z
SUMMARY:Rotarischer Earlybird
DESCRIPTION:Alle rotarischen Frühaufsteher treffen sich am Donnerstag\, de
 n 16. August 2018 ab 06:20 Uhr im Restaurant Pure (Hotel Arte) in Olten z
 um „Early Bird“\, unserem rotarischen Frühstück mit rotarischer Insp
 iration.\n\nDas Frühstücksbuffet à Diskretion kostet 25 Franken. Nur Ka
 ffee- oder Teetrinker bezahlen\, was sie konsumieren.\nSitio web: http://w
 ww.konferenzhotel.ch/de/Restaurants/pure-Restaurant\nOrador(es): Ueli Gagg
  (RC Olten)
URL:https://rotary-olten.ch/es/agenda/show/89055
DTSTART;TZID=Europe/Zurich:20180816T062000
DTEND;TZID=Europe/Zurich:20180816T072000
LOCATION:Hotel Arte\, Restaurant Pure
CATEGORIES:Rotary
END:VEVENT
BEGIN:VTIMEZONE
TZID:Europe/Zurich
BEGIN:DAYLIGHT
DTSTART:20180816T062000
TZNAME:CEST
TZOFFSETTO:+0200
TZOFFSETFROM:+0200
END:DAYLIGHT
END:VTIMEZONE
END:VCALENDAR
