BEGIN:VCALENDAR
PRODID:-//eluceo/ical//2.0/EN
VERSION:2.0
CALSCALE:GREGORIAN
BEGIN:VEVENT
UID:81b4be87aaaa9c24983f108a9efa81e7
DTSTAMP:20260424T090627Z
SUMMARY:Hotel Arte\, Restaurant Pure
DESCRIPTION:Site internet: http://www.konferenzhotel.ch/de/Restaurants/pure
 -Restaurant
URL:https://rotary-olten.ch/fr/agenda/show/180069
DTSTART;TZID=Europe/Zurich:20241017T061500
DTEND;TZID=Europe/Zurich:20241017T070000
LOCATION:Hotel Arte\, Restaurant Pure
CATEGORIES:Rotary
END:VEVENT
BEGIN:VTIMEZONE
TZID:Europe/Zurich
BEGIN:DAYLIGHT
DTSTART:20241017T061500
TZNAME:CEST
TZOFFSETTO:+0200
TZOFFSETFROM:+0200
END:DAYLIGHT
END:VTIMEZONE
END:VCALENDAR
