BEGIN:VCALENDAR
PRODID:-//eluceo/ical//2.0/EN
VERSION:2.0
CALSCALE:GREGORIAN
BEGIN:VEVENT
UID:dfc58acf228110814b48795dd6fcc114
DTSTAMP:20260420T113714Z
SUMMARY:Earlybird
DESCRIPTION:Site internet: http://www.konferenzhotel.ch/de/Restaurants/pure
 -Restaurant
URL:https://rotary-olten.ch/fr/agenda/show/180072
DTSTART;TZID=Europe/Zurich:20250116T061500
DTEND;TZID=Europe/Zurich:20250116T070000
LOCATION:Hotel Arte\, Restaurant Pure
CATEGORIES:Rotary
END:VEVENT
BEGIN:VTIMEZONE
TZID:Europe/Zurich
BEGIN:STANDARD
DTSTART:20250116T061500
TZNAME:CET
TZOFFSETTO:+0100
TZOFFSETFROM:+0100
END:STANDARD
END:VTIMEZONE
END:VCALENDAR
