BEGIN:VCALENDAR
PRODID:-//eluceo/ical//2.0/EN
VERSION:2.0
CALSCALE:GREGORIAN
BEGIN:VEVENT
UID:fb719945d82f6f17e2a9aac02f5b18a7
DTSTAMP:20260421T101236Z
SUMMARY:Regio-Apéro
DESCRIPTION:
URL:https://rotary-olten.ch/fr/agenda/show/26290
DTSTART;TZID=Europe/Zurich:20121017T181500
DTEND;TZID=Europe/Zurich:20121017T181500
LOCATION:Hotel Olten
CATEGORIES:Rotary
END:VEVENT
BEGIN:VTIMEZONE
TZID:Europe/Zurich
BEGIN:DAYLIGHT
DTSTART:20121017T181500
TZNAME:CEST
TZOFFSETTO:+0200
TZOFFSETFROM:+0200
END:DAYLIGHT
END:VTIMEZONE
END:VCALENDAR
