BEGIN:VCALENDAR
PRODID:-//eluceo/ical//2.0/EN
VERSION:2.0
CALSCALE:GREGORIAN
BEGIN:VEVENT
UID:8956c9f733ec9cff46278890d6d83ed0
DTSTAMP:20260424T085601Z
SUMMARY:Digital Branding: Eine Chance für KMU's
DESCRIPTION:Conférencier(s): Mike Müller\, MySign AG
URL:https://rotary-olten.ch/fr/agenda/show/26299
DTSTART;TZID=Europe/Zurich:20121203T120000
DTEND;TZID=Europe/Zurich:20121203T120000
LOCATION:Restaurant Aarhof
CATEGORIES:Rotary
END:VEVENT
BEGIN:VTIMEZONE
TZID:Europe/Zurich
BEGIN:STANDARD
DTSTART:20121203T120000
TZNAME:CET
TZOFFSETTO:+0100
TZOFFSETFROM:+0100
END:STANDARD
END:VTIMEZONE
END:VCALENDAR
