BEGIN:VCALENDAR
PRODID:-//eluceo/ical//2.0/EN
VERSION:2.0
CALSCALE:GREGORIAN
BEGIN:VEVENT
UID:e9522a1c107d4b82e64c4f97f4211872
DTSTAMP:20260425T131008Z
SUMMARY:GSE-Austausch Australien
DESCRIPTION:Conférencier(s): Matthias Fäh
URL:https://rotary-olten.ch/fr/agenda/show/30124
DTSTART;TZID=Europe/Zurich:20130610T120000
DTEND;TZID=Europe/Zurich:20130610T120000
LOCATION:Restaurant Aarhof
CATEGORIES:Rotary
END:VEVENT
BEGIN:VTIMEZONE
TZID:Europe/Zurich
BEGIN:DAYLIGHT
DTSTART:20130610T120000
TZNAME:CEST
TZOFFSETTO:+0200
TZOFFSETFROM:+0200
END:DAYLIGHT
END:VTIMEZONE
END:VCALENDAR
