BEGIN:VCALENDAR
PRODID:-//eluceo/ical//2.0/EN
VERSION:2.0
CALSCALE:GREGORIAN
BEGIN:VEVENT
UID:62f34309ef6db38eeee3bda26c8cc588
DTSTAMP:20260419T214956Z
SUMMARY:Pfingstmontag - kein Lunch
DESCRIPTION:
URL:https://rotary-olten.ch/fr/agenda/show/31141
DTSTART;TZID=Europe/Zurich:20130520T000000
DTEND;TZID=Europe/Zurich:20130520T000000
LOCATION:Restaurant Aarhof
CATEGORIES:Rotary
END:VEVENT
BEGIN:VTIMEZONE
TZID:Europe/Zurich
BEGIN:DAYLIGHT
DTSTART:20130520T000000
TZNAME:CEST
TZOFFSETTO:+0200
TZOFFSETFROM:+0200
END:DAYLIGHT
END:VTIMEZONE
END:VCALENDAR
