BEGIN:VCALENDAR
PRODID:-//eluceo/ical//2.0/EN
VERSION:2.0
CALSCALE:GREGORIAN
BEGIN:VEVENT
UID:182f7d8596d766bfd57d691336df27c9
DTSTAMP:20260425T135416Z
SUMMARY:1.Mai: Kein Lunch
DESCRIPTION:Der Aarhof begeht den 1. Mai: Betriebsferien.\n\nDas Referat "3
 0 Jahre Kabarett-Tage" von Claude Schoch wird zeitnah nachgeholt.
URL:https://rotary-olten.ch/fr/agenda/show/73667
DTSTART;TZID=Europe/Zurich:20170501T000000
DTEND;TZID=Europe/Zurich:20170501T000000
LOCATION:Restaurant Aarhof
CATEGORIES:Rotary
END:VEVENT
BEGIN:VTIMEZONE
TZID:Europe/Zurich
BEGIN:DAYLIGHT
DTSTART:20170501T000000
TZNAME:CEST
TZOFFSETTO:+0200
TZOFFSETFROM:+0200
END:DAYLIGHT
END:VTIMEZONE
END:VCALENDAR
