BEGIN:VCALENDAR
PRODID:-//eluceo/ical//2.0/EN
VERSION:2.0
CALSCALE:GREGORIAN
BEGIN:VEVENT
UID:6d7622baca15c81691640cc4e0dad736
DTSTAMP:20260425T164503Z
SUMMARY:Plauderlunch
DESCRIPTION:Menu: Bunter Blattsalat mit Hauspastete an Cumberlandsauce\n* *
  *\nJägerbraten mit Bärlauch an Portwein-Pfefferjus\n\nserviert mit neue
 n Kartoffeln und Kefengemüse\n\noder\n\nKartoffel-Gnocchi mit mediterran
 em Gemüse und Gorgonzola\n\n* * *\n\nMenüpreis: Fr. 35.--\n(nebst dem Me
 nü sind 1 Glas Wein oder 1 Bier\, Mineralwasser und Kaffee inbegriffen)\n
 \n \n\nSüsse „Versuchung“   (Fr. 8.--)\n\nSorbet-Palette mit frisc
 hen Früchten
URL:https://rotary-olten.ch/fr/agenda/show/84242
DTSTART;TZID=Europe/Zurich:20180416T120000
DTEND;TZID=Europe/Zurich:20180416T140000
LOCATION:Restaurant Aarhof
CATEGORIES:Rotary
END:VEVENT
BEGIN:VTIMEZONE
TZID:Europe/Zurich
BEGIN:DAYLIGHT
DTSTART:20180416T120000
TZNAME:CEST
TZOFFSETTO:+0200
TZOFFSETFROM:+0200
END:DAYLIGHT
END:VTIMEZONE
END:VCALENDAR
