BEGIN:VCALENDAR
PRODID:-//eluceo/ical//2.0/EN
VERSION:2.0
CALSCALE:GREGORIAN
BEGIN:VEVENT
UID:a3d364d49fe8066cd72a3648e054b624
DTSTAMP:20260420T133502Z
SUMMARY:Regio Apéro
DESCRIPTION:Jeden dritten Mittwoch im Monat treffen sich Rotarierinnen un
 d Rotarier der Clubs aus Olten\, Olten-West\, Gösgen Niederamt\, Balsthal
  und Zofingen zum Regio-Apéro im Restaurant stadtbad* in der Oltner Altst
 adt.\n\nGäste sind allzeit herzlich willkommen!\nSite internet: http://w
 ww.restaurant-stadtbad.ch
URL:https://rotary-olten.ch/fr/agenda/show/87846
DTSTART;TZID=Europe/Zurich:20181121T180000
DTEND;TZID=Europe/Zurich:20181121T190000
LOCATION:Restaurant stadtbad*
CATEGORIES:Rotary
END:VEVENT
BEGIN:VTIMEZONE
TZID:Europe/Zurich
BEGIN:STANDARD
DTSTART:20181121T180000
TZNAME:CET
TZOFFSETTO:+0100
TZOFFSETFROM:+0100
END:STANDARD
END:VTIMEZONE
END:VCALENDAR
