BEGIN:VCALENDAR
PRODID:-//eluceo/ical//2.0/EN
VERSION:2.0
CALSCALE:GREGORIAN
BEGIN:VEVENT
UID:6af8c655dd880a1de2cabe8f8b7a6ca2
DTSTAMP:20260420T133541Z
SUMMARY:Rotarisches Gipfeli-Treffen
DESCRIPTION:Jeden ersten Freitag im Monat treffen sich Rotarierinnen und Ro
 tarier der Clubs aus Olten und Umgebung zu Kaffee und Gipfeli im Restauran
 t Pure (Hotel Arte) in Olten.\n\nGäste sind allzeit herzlich willkommen!
 \nSite internet: https://www.konferenzhotel.ch/de/Restaurants/pure-Restaur
 ant
URL:https://rotary-olten.ch/fr/agenda/show/87870
DTSTART;TZID=Europe/Zurich:20190503T071500
DTEND;TZID=Europe/Zurich:20190503T080000
LOCATION:Hotel Arte\, Restaurant Pure
CATEGORIES:Rotary
END:VEVENT
BEGIN:VTIMEZONE
TZID:Europe/Zurich
BEGIN:DAYLIGHT
DTSTART:20190503T071500
TZNAME:CEST
TZOFFSETTO:+0200
TZOFFSETFROM:+0200
END:DAYLIGHT
END:VTIMEZONE
END:VCALENDAR
