BEGIN:VCALENDAR
PRODID:-//eluceo/ical//2.0/EN
VERSION:2.0
CALSCALE:GREGORIAN
BEGIN:VEVENT
UID:d8ddc434bdd81850cd39752570820ab5
DTSTAMP:20260420T131911Z
SUMMARY:Rotarischer Earlybird
DESCRIPTION:Alle rotarischen Frühaufsteher treffen sich am Donnerstag\, de
 n 17. Januar 2019 ab 06:20 Uhr im Restaurant Pure (Hotel Arte) in Olten z
 um „Early Bird“\, unserem rotarischen Frühstück mit rotarischer Insp
 iration.\n\nDas Frühstücksbuffet à Diskretion kostet 25 Franken. Nur Ka
 ffee- oder Teetrinker bezahlen\, was sie konsumieren.\nSite internet: http
 ://www.konferenzhotel.ch/de/Restaurants/pure-Restaurant\nConférencier(s):
  Fredy Dubach (RC Balsthal)
URL:https://rotary-olten.ch/fr/agenda/show/89518
DTSTART;TZID=Europe/Zurich:20190117T062000
DTEND;TZID=Europe/Zurich:20190117T072000
LOCATION:Hotel Arte\, Restaurant Pure
CATEGORIES:Rotary
END:VEVENT
BEGIN:VTIMEZONE
TZID:Europe/Zurich
BEGIN:STANDARD
DTSTART:20190117T062000
TZNAME:CET
TZOFFSETTO:+0100
TZOFFSETFROM:+0100
END:STANDARD
END:VTIMEZONE
END:VCALENDAR
