BEGIN:VCALENDAR
PRODID:-//eluceo/ical//2.0/EN
VERSION:2.0
CALSCALE:GREGORIAN
BEGIN:VEVENT
UID:5888801c753c9d8a00bb2782d434b5ac
DTSTAMP:20260420T133752Z
SUMMARY:Rotarischer Earlybird
DESCRIPTION:Alle rotarischen Frühaufsteher treffen sich am Donnerstag\, de
 n 18. April 2019 ab 06:20 Uhr im Restaurant Pure (Hotel Arte) in Olten zu
 m „Early Bird“\, unserem rotarischen Frühstück mit rotarischer Inspi
 ration.\n\nDas Frühstücksbuffet à Diskretion kostet 25 Franken. Nur Kaf
 fee- oder Teetrinker bezahlen\, was sie konsumieren.\nSite internet: http:
 //www.konferenzhotel.ch/de/Restaurants/pure-Restaurant\nConférencier(s): 
 Lukas Eisner (RC Olten)
URL:https://rotary-olten.ch/fr/agenda/show/89521
DTSTART;TZID=Europe/Zurich:20190418T062000
DTEND;TZID=Europe/Zurich:20190418T072000
LOCATION:Hotel Arte\, Restaurant Pure
CATEGORIES:Rotary
END:VEVENT
BEGIN:VTIMEZONE
TZID:Europe/Zurich
BEGIN:DAYLIGHT
DTSTART:20190418T062000
TZNAME:CEST
TZOFFSETTO:+0200
TZOFFSETFROM:+0200
END:DAYLIGHT
END:VTIMEZONE
END:VCALENDAR
