BEGIN:VCALENDAR
PRODID:-//eluceo/ical//2.0/EN
VERSION:2.0
CALSCALE:GREGORIAN
BEGIN:VEVENT
UID:4372a627e12ad7daff9589033f4b6a86
DTSTAMP:20260419T212139Z
SUMMARY:Hotel Arte\, Restaurant Pure Café
DESCRIPTION:Vefsíða: http://www.konferenzhotel.ch/de/Restaurants/pure-Res
 taurant
URL:https://rotary-olten.ch/is/agenda/show/163212
DTSTART;TZID=Europe/Zurich:20240105T071500
DTEND;TZID=Europe/Zurich:20240105T080000
LOCATION:Hotel Arte\, Restaurant Pure Café
CATEGORIES:Rotary
END:VEVENT
BEGIN:VTIMEZONE
TZID:Europe/Zurich
BEGIN:STANDARD
DTSTART:20240105T071500
TZNAME:CET
TZOFFSETTO:+0100
TZOFFSETFROM:+0100
END:STANDARD
END:VTIMEZONE
END:VCALENDAR
