BEGIN:VCALENDAR
PRODID:-//eluceo/ical//2.0/EN
VERSION:2.0
CALSCALE:GREGORIAN
BEGIN:VEVENT
UID:bbdd75fb68acb180445fa0a2359d4bfe
DTSTAMP:20260419T212832Z
SUMMARY:Hotel Arte\, Restaurant Pure
DESCRIPTION:Vefsíða: http://www.konferenzhotel.ch/de/Restaurants/pure-Res
 taurant\nFyrirlesari(ar): Peter Gehler (RC Zofingen)
URL:https://rotary-olten.ch/is/agenda/show/163225
DTSTART;TZID=Europe/Zurich:20231221T061500
DTEND;TZID=Europe/Zurich:20231221T070000
LOCATION:Hotel Arte\, Restaurant Pure
CATEGORIES:Rotary
END:VEVENT
BEGIN:VTIMEZONE
TZID:Europe/Zurich
BEGIN:STANDARD
DTSTART:20231221T061500
TZNAME:CET
TZOFFSETTO:+0100
TZOFFSETFROM:+0100
END:STANDARD
END:VTIMEZONE
END:VCALENDAR
