BEGIN:VCALENDAR
PRODID:-//eluceo/ical//2.0/EN
VERSION:2.0
CALSCALE:GREGORIAN
BEGIN:VEVENT
UID:e93eaf035e1fe5b2c1a0116fd2de695c
DTSTAMP:20260421T094128Z
SUMMARY:Hotel Arte\, Restaurant Pure
DESCRIPTION:Vefsíða: http://www.konferenzhotel.ch/de/Restaurants/pure-Res
 taurant
URL:https://rotary-olten.ch/is/agenda/show/163226
DTSTART;TZID=Europe/Zurich:20240118T061500
DTEND;TZID=Europe/Zurich:20240118T070000
LOCATION:Hotel Arte\, Restaurant Pure
CATEGORIES:Rotary
END:VEVENT
BEGIN:VTIMEZONE
TZID:Europe/Zurich
BEGIN:STANDARD
DTSTART:20240118T061500
TZNAME:CET
TZOFFSETTO:+0100
TZOFFSETFROM:+0100
END:STANDARD
END:VTIMEZONE
END:VCALENDAR
