BEGIN:VCALENDAR
PRODID:-//eluceo/ical//2.0/EN
VERSION:2.0
CALSCALE:GREGORIAN
BEGIN:VEVENT
UID:9f03d9a25981308b4c73f8a3d05d4e97
DTSTAMP:20260419T225417Z
SUMMARY:Vortragslunch – Kilian Ziegler\, Slam Poet
DESCRIPTION:Vefsíða: http://www.hotelolten.ch
URL:https://rotary-olten.ch/is/agenda/show/184669
DTSTART;TZID=Europe/Zurich:20240916T120000
DTEND;TZID=Europe/Zurich:20240916T133000
LOCATION:Hotel Olten\, Bahnhofstrasse 5\, 4600 Olten\, Schweiz
CATEGORIES:Rotary
END:VEVENT
BEGIN:VTIMEZONE
TZID:Europe/Zurich
BEGIN:DAYLIGHT
DTSTART:20240916T120000
TZNAME:CEST
TZOFFSETTO:+0200
TZOFFSETFROM:+0200
END:DAYLIGHT
END:VTIMEZONE
END:VCALENDAR
