BEGIN:VCALENDAR
PRODID:-//eluceo/ical//2.0/EN
VERSION:2.0
CALSCALE:GREGORIAN
BEGIN:VEVENT
UID:a11da5c332809e3a4b665715de1dc10e
DTSTAMP:20260419T224518Z
SUMMARY:Vortragslunch – Pierre Hagmann\, Swiss Olympic
DESCRIPTION:Vefsíða: http://www.hotelolten.ch
URL:https://rotary-olten.ch/is/agenda/show/184670
DTSTART;TZID=Europe/Zurich:20240923T120000
DTEND;TZID=Europe/Zurich:20240923T133000
LOCATION:Hotel Olten\, Bahnhofstrasse 5\, 4600 Olten\, Schweiz
CATEGORIES:Rotary
END:VEVENT
BEGIN:VTIMEZONE
TZID:Europe/Zurich
BEGIN:DAYLIGHT
DTSTART:20240923T120000
TZNAME:CEST
TZOFFSETTO:+0200
TZOFFSETFROM:+0200
END:DAYLIGHT
END:VTIMEZONE
END:VCALENDAR
