BEGIN:VCALENDAR
PRODID:-//eluceo/ical//2.0/EN
VERSION:2.0
CALSCALE:GREGORIAN
BEGIN:VEVENT
UID:c43b1d8165362296473cb52e08bbfdb6
DTSTAMP:20260425T191357Z
SUMMARY:Plauderlunch "Kontaktclubtreffen"
DESCRIPTION:
URL:https://rotary-olten.ch/is/agenda/show/20377
DTSTART;TZID=Europe/Zurich:20120123T120000
DTEND;TZID=Europe/Zurich:20120123T120000
LOCATION:Bahnhofbuffet Olten\, 1. Stock
CATEGORIES:Rotary
END:VEVENT
BEGIN:VTIMEZONE
TZID:Europe/Zurich
BEGIN:STANDARD
DTSTART:20120123T120000
TZNAME:CET
TZOFFSETTO:+0100
TZOFFSETFROM:+0100
END:STANDARD
END:VTIMEZONE
END:VCALENDAR
