BEGIN:VCALENDAR
PRODID:-//eluceo/ical//2.0/EN
VERSION:2.0
CALSCALE:GREGORIAN
BEGIN:VEVENT
UID:07b6e35b1eac9d6ac3ccfdf68503e9c2
DTSTAMP:20260425T010754Z
SUMMARY:Plauderlunch
DESCRIPTION:Gelegenheit für die Rückkehrer\, am Tisch vom Kontaktclubtref
 fen zu berichten.\nValmynd: Bunter Frühlingssalat mit Cavaillon-Melone\n*
  * *\nBlätterteig-Pastetchen mit Fleischfüllung und Champignons\n\nservi
 ert mit Pilawreis und Erbs & Rüebli\n\noder\n\nÄlpler Magronen mit Zwie
 beln und Apfelmus\n\n* * *\n\nMenüpreis: Fr. 35.--\n(nebst Menü sind 1 G
 las Wein oder 1 Bier\, Mineralwasser und 1 Kaffee inbegriffen)\n\nSüsse 
 „Versuchung“   (Fr. 8.--)\n\nErdbeer-Quarkknödel mit Joghurtglace
URL:https://rotary-olten.ch/is/agenda/show/74348
DTSTART;TZID=Europe/Zurich:20170529T120000
DTEND;TZID=Europe/Zurich:20170529T133000
LOCATION:Restaurant Aarhof
CATEGORIES:Rotary
END:VEVENT
BEGIN:VTIMEZONE
TZID:Europe/Zurich
BEGIN:DAYLIGHT
DTSTART:20170529T120000
TZNAME:CEST
TZOFFSETTO:+0200
TZOFFSETFROM:+0200
END:DAYLIGHT
END:VTIMEZONE
END:VCALENDAR
