BEGIN:VCALENDAR
PRODID:-//eluceo/ical//2.0/EN
VERSION:2.0
CALSCALE:GREGORIAN
BEGIN:VEVENT
UID:4bab006b45164b9f20d098edafcd84da
DTSTAMP:20260421T223214Z
SUMMARY:Regio Apéro
DESCRIPTION:Einmal im Monat treffen sich Rotarierinnen und Rotarier der Clu
 bs aus Olten\, Olten-West\, Gösgen Niederamt\, Balsthal und Zofingen zum 
 Regio-Apéro im Restaurant stadtbad* in der Oltner Altstadt.\n\nGäste sin
 d allzeit herzlich willkommen!\nSito web: http://www.restaurant-stadtbad.
 ch
URL:https://rotary-olten.ch/it/agenda/show/100401
DTSTART;TZID=Europe/Zurich:20200115T180000
DTEND;TZID=Europe/Zurich:20200115T190000
LOCATION:Restaurant stadtbad*
CATEGORIES:Rotary
END:VEVENT
BEGIN:VTIMEZONE
TZID:Europe/Zurich
BEGIN:STANDARD
DTSTART:20200115T180000
TZNAME:CET
TZOFFSETTO:+0100
TZOFFSETFROM:+0100
END:STANDARD
END:VTIMEZONE
END:VCALENDAR
