BEGIN:VCALENDAR
PRODID:-//eluceo/ical//2.0/EN
VERSION:2.0
CALSCALE:GREGORIAN
BEGIN:VEVENT
UID:b9b614b42867b8d3c429367668914406
DTSTAMP:20260421T190716Z
SUMMARY:Ferien-Plauderlunch
DESCRIPTION:Der Lunch findet im Restaurant im EG statt.\nMenu: M e n ü\n\n
 Gemüse-Crèmesuppe mit Croutons\n\n* * *\n\nRoastbeef kalt aufgeschnitten
  mit Sauce Tartare\n\nserviert mit gemischten Salaten und Sprossen\n\noder
 \n\nSalatteller mit Melone und Ei\n\n* * *\n\nMenüpreis: Fr. 35.--\n\n(ne
 bst dem Menü sind 1 Glas Wein oder 1 Bier\, Mineralwasser und Kaffee inbe
 griffen)\n\n \n\nSüsse „Versuchung“   (Fr. 8.--)\n\n \n\nVacherin
 -Eistörtchen mit frischen Sommerbeeren
URL:https://rotary-olten.ch/it/agenda/show/87874
DTSTART;TZID=Europe/Zurich:20180716T120000
DTEND;TZID=Europe/Zurich:20180716T133000
LOCATION:Restaurant Aarhof
CATEGORIES:Rotary
END:VEVENT
BEGIN:VTIMEZONE
TZID:Europe/Zurich
BEGIN:DAYLIGHT
DTSTART:20180716T120000
TZNAME:CEST
TZOFFSETTO:+0200
TZOFFSETFROM:+0200
END:DAYLIGHT
END:VTIMEZONE
END:VCALENDAR
