BEGIN:VCALENDAR
PRODID:-//eluceo/ical//2.0/EN
VERSION:2.0
CALSCALE:GREGORIAN
BEGIN:VEVENT
UID:a52b44000be11f983e2d718a82703f36
DTSTAMP:20260421T225612Z
SUMMARY:Rotarischer Earlybird
DESCRIPTION:Alle rotarischen Frühaufsteher treffen sich am Donnerstag\, de
 n 20. Dezember 2018 ab 06:20 Uhr im Restaurant Pure (Hotel Arte) in Olten
  zum „Early Bird“\, unserem rotarischen Frühstück mit rotarischer In
 spiration.\n\nDas Frühstücksbuffet à Diskretion kostet 25 Franken. Nur 
 Kaffee- oder Teetrinker bezahlen\, was sie konsumieren.\nSito web: http://
 www.konferenzhotel.ch/de/Restaurants/pure-Restaurant\nRelatore/i: Dominik 
 Probst (RC Olten)
URL:https://rotary-olten.ch/it/agenda/show/89517
DTSTART;TZID=Europe/Zurich:20181220T062000
DTEND;TZID=Europe/Zurich:20181220T072000
LOCATION:Hotel Arte\, Restaurant Pure
CATEGORIES:Rotary
END:VEVENT
BEGIN:VTIMEZONE
TZID:Europe/Zurich
BEGIN:STANDARD
DTSTART:20181220T062000
TZNAME:CET
TZOFFSETTO:+0100
TZOFFSETFROM:+0100
END:STANDARD
END:VTIMEZONE
END:VCALENDAR
