BEGIN:VCALENDAR
PRODID:-//eluceo/ical//2.0/EN
VERSION:2.0
CALSCALE:GREGORIAN
BEGIN:VEVENT
UID:82dd148926f059e81bdf82e0464da5cd
DTSTAMP:20260424T183232Z
SUMMARY:Plauderlunch
DESCRIPTION:Website: http://www.hotelolten.ch
URL:https://rotary-olten.ch/nl/agenda/show/188375
DTSTART;TZID=Europe/Zurich:20241125T120000
DTEND;TZID=Europe/Zurich:20241125T133000
LOCATION:Hotel Olten\, Bahnhofstrasse 5\, 4600 Olten\, Schweiz
CATEGORIES:Rotary
END:VEVENT
BEGIN:VTIMEZONE
TZID:Europe/Zurich
BEGIN:STANDARD
DTSTART:20241125T120000
TZNAME:CET
TZOFFSETTO:+0100
TZOFFSETFROM:+0100
END:STANDARD
END:VTIMEZONE
END:VCALENDAR
