BEGIN:VCALENDAR
PRODID:-//eluceo/ical//2.0/EN
VERSION:2.0
CALSCALE:GREGORIAN
BEGIN:VEVENT
UID:f5d62e73e67fff5d2ac1044502980fa7
DTSTAMP:20260421T124202Z
SUMMARY:Gipfeli-Treffen
DESCRIPTION:Website: http://www.konferenzhotel.ch/de/Restaurants/pure-Resta
 urant
URL:https://rotary-olten.ch/nl/agenda/show/194721
DTSTART;TZID=Europe/Zurich:20251003T071500
DTEND;TZID=Europe/Zurich:20251003T080000
LOCATION:Hotel Arte\, Restaurant Pure Café
CATEGORIES:Rotary
END:VEVENT
BEGIN:VTIMEZONE
TZID:Europe/Zurich
BEGIN:DAYLIGHT
DTSTART:20251003T071500
TZNAME:CEST
TZOFFSETTO:+0200
TZOFFSETFROM:+0200
END:DAYLIGHT
END:VTIMEZONE
END:VCALENDAR
