BEGIN:VCALENDAR
PRODID:-//eluceo/ical//2.0/EN
VERSION:2.0
CALSCALE:GREGORIAN
BEGIN:VEVENT
UID:e3d902c6ccc0753691742b945b927d6b
DTSTAMP:20260423T133136Z
SUMMARY:99. Rotary Earlybird
DESCRIPTION:Website: http://www.konferenzhotel.ch/de/Restaurants/pure-Resta
 urant
URL:https://rotary-olten.ch/nl/agenda/show/194745
DTSTART;TZID=Europe/Zurich:20250821T061500
DTEND;TZID=Europe/Zurich:20250821T070000
LOCATION:Hotel Arte\, Restaurant Pure
CATEGORIES:Rotary
END:VEVENT
BEGIN:VTIMEZONE
TZID:Europe/Zurich
BEGIN:DAYLIGHT
DTSTART:20250821T061500
TZNAME:CEST
TZOFFSETTO:+0200
TZOFFSETFROM:+0200
END:DAYLIGHT
END:VTIMEZONE
END:VCALENDAR
