BEGIN:VCALENDAR
PRODID:-//eluceo/ical//2.0/EN
VERSION:2.0
CALSCALE:GREGORIAN
BEGIN:VEVENT
UID:50db58440eefdc03bdd96cf84580573a
DTSTAMP:20260424T161714Z
SUMMARY:Amtsübergabe
DESCRIPTION:Website: https://rumpel-trimbach.ch
URL:https://rotary-olten.ch/nl/agenda/show/212431
DTSTART;TZID=Europe/Zurich:20260627T123000
DTEND;TZID=Europe/Zurich:20260627T150000
LOCATION:Restaurant Rumpel
CATEGORIES:Rotary
END:VEVENT
BEGIN:VTIMEZONE
TZID:Europe/Zurich
BEGIN:DAYLIGHT
DTSTART:20260627T123000
TZNAME:CEST
TZOFFSETTO:+0200
TZOFFSETFROM:+0200
END:DAYLIGHT
END:VTIMEZONE
END:VCALENDAR
