BEGIN:VCALENDAR
PRODID:-//eluceo/ical//2.0/EN
VERSION:2.0
CALSCALE:GREGORIAN
BEGIN:VEVENT
UID:e8c26113b9fdccffb37c68123854a039
DTSTAMP:20260424T004039Z
SUMMARY:Hotel Arte\, Restaurant Pure
DESCRIPTION:Webbplats: http://www.konferenzhotel.ch/de/Restaurants/pure-Res
 taurant\nTalare: Fabian Bürki (RC Olten)
URL:https://rotary-olten.ch/sv/agenda/show/163222
DTSTART;TZID=Europe/Zurich:20230921T061500
DTEND;TZID=Europe/Zurich:20230921T070000
LOCATION:Hotel Arte\, Restaurant Pure
CATEGORIES:Rotary
END:VEVENT
BEGIN:VTIMEZONE
TZID:Europe/Zurich
BEGIN:DAYLIGHT
DTSTART:20230921T061500
TZNAME:CEST
TZOFFSETTO:+0200
TZOFFSETFROM:+0200
END:DAYLIGHT
END:VTIMEZONE
END:VCALENDAR
