BEGIN:VCALENDAR
PRODID:-//eluceo/ical//2.0/EN
VERSION:2.0
CALSCALE:GREGORIAN
BEGIN:VEVENT
UID:b3eae29e2e14d35b19a847683c883326
DTSTAMP:20260423T145037Z
SUMMARY:Wir über uns
DESCRIPTION:Talare: Rot. Wilhlem Kufferath
URL:https://rotary-olten.ch/sv/agenda/show/26298
DTSTART;TZID=Europe/Zurich:20121119T120000
DTEND;TZID=Europe/Zurich:20121119T120000
LOCATION:Restaurant Aarhof
CATEGORIES:Rotary
END:VEVENT
BEGIN:VTIMEZONE
TZID:Europe/Zurich
BEGIN:STANDARD
DTSTART:20121119T120000
TZNAME:CET
TZOFFSETTO:+0100
TZOFFSETFROM:+0100
END:STANDARD
END:VTIMEZONE
END:VCALENDAR
