BEGIN:VCALENDAR
PRODID:-//eluceo/ical//2.0/EN
VERSION:2.0
CALSCALE:GREGORIAN
BEGIN:VEVENT
UID:034aa33bbd65351d4ebd8d50adecf86f
DTSTAMP:20260423T144935Z
SUMMARY:Abendanlass: Tanz in Olten
DESCRIPTION:Für unsere Region bedeutet dieser Kulturaustausch einen kün
 stlerischen Höhepunkt. TANZINOLTEN ist stolz\, diese unvergleichliche\, k
 ünstlerische Co-Produktion mit Hilfe von Kanton Solothurn\, Stadt Olten 
 und weiteren Sponsoren realisieren zu können. Norbert Lehmann hat einen F
 ilm über diese Zusammenarbeit produzieren lassen. Zusätzlich werden die
 se Künstler weitere Auftritte in der Schweiz absolvieren können. Faith 
 Jensen-Ismay ist auch den Oltnern ein Begriff\, denn auch sie war bereits 
 Gast an den Oltner Tanztagen. Sie ist eine unglaublich dynamische und bega
 bte Tänzerin und Choreografin. Einige mögen sich sicher noch an ihren Wo
 rkshop im TanzTheaterRaumEins in Olten erinnern. Norbert Lehmann ist als O
 ltner ebenfalls eine bekannte Persönlichkeit\, der mit RhythmTalk Musikge
 schichte geschrieben hat. Man darf sich auf dieses Ereignis freuen.  Highl
 ight: Rotary-Apéro um 19.00 Uhr mit interessanten Ausführungen und Vors
 tellung der Künstler durch Ursula Berger.\nTalare: Ursula Berger
URL:https://rotary-olten.ch/sv/agenda/show/27292
DTSTART;TZID=Europe/Zurich:20121115T190000
DTEND;TZID=Europe/Zurich:20121115T190000
LOCATION:Kulturzentrum Schützi Olten
CATEGORIES:Rotary
END:VEVENT
BEGIN:VTIMEZONE
TZID:Europe/Zurich
BEGIN:STANDARD
DTSTART:20121115T190000
TZNAME:CET
TZOFFSETTO:+0100
TZOFFSETFROM:+0100
END:STANDARD
END:VTIMEZONE
END:VCALENDAR
