BEGIN:VCALENDAR
PRODID:-//eluceo/ical//2.0/EN
VERSION:2.0
CALSCALE:GREGORIAN
BEGIN:VEVENT
UID:0e160566975d7de0a528e99e5849b420
DTSTAMP:20260425T191802Z
SUMMARY:Jahresversammlung
DESCRIPTION:Talare: Hanspeter Gubser
URL:https://rotary-olten.ch/sv/agenda/show/67458
DTSTART;TZID=Europe/Zurich:20161128T000000
DTEND;TZID=Europe/Zurich:20161128T000000
LOCATION:Restaurant Aarhof
CATEGORIES:Rotary
END:VEVENT
BEGIN:VTIMEZONE
TZID:Europe/Zurich
BEGIN:STANDARD
DTSTART:20161128T000000
TZNAME:CET
TZOFFSETTO:+0100
TZOFFSETFROM:+0100
END:STANDARD
END:VTIMEZONE
END:VCALENDAR
